BEGIN:VCALENDAR
VERSION:2.0
PRODID:Imitheme.com 
BEGIN:VEVENT
UID:20260422T1729151186888785
DTSTAMP;TZID=UTC:2026-04-22 17:29:15
DTSTART;TZID=America/Los_Angeles:20191018T170000
DTEND;TZID=America/Los_Angeles:20191018T220000
SUMMARY:Harvest Festival on False River
LOCATION:237 West Main St.\, New Roads\, LA 70760
DESCRIPTION:
URL:https://pcparish.org/event/harvest-festival-on-false-river/edate/2019-10-18
END:VEVENT
END:VCALENDAR
