BEGIN:VCALENDAR
VERSION:2.0
PRODID:Imitheme.com 
BEGIN:VEVENT
UID:20260422T182512691692511
DTSTAMP;TZID=UTC:2026-04-22 18:25:12
DTSTART;TZID=America/Los_Angeles:20191019T100000
DTEND;TZID=America/Los_Angeles:20191019T220000
SUMMARY:Harvest Festival on False River
LOCATION:237 West Main St.\, New Roads\, LA 70760
DESCRIPTION:
URL:https://pcparish.org/event/harvest-festival-on-false-river-2/edate/2019-10-19
END:VEVENT
END:VCALENDAR
