BEGIN:VCALENDAR
VERSION:2.0
PRODID:Imitheme.com 
BEGIN:VEVENT
UID:20260422T170449604664093
DTSTAMP;TZID=UTC:2026-04-22 17:04:49
DTSTART;TZID=America/Los_Angeles:20191020T120000
DTEND;TZID=America/Los_Angeles:20191020T180000
SUMMARY:Harvest Festival on False River
LOCATION:237 West Main St.\, New Roads\, LA 70760
DESCRIPTION:
URL:https://pcparish.org/event/harvest-festival-on-false-river-3/edate/2019-10-20
END:VEVENT
END:VCALENDAR
