BEGIN:VCALENDAR
VERSION:2.0
PRODID:Imitheme.com 
BEGIN:VEVENT
UID:20260422T1842061280244964
DTSTAMP;TZID=UTC:2026-04-22 18:42:06
DTSTART;TZID=America/Los_Angeles:20191031T180000
DTEND;TZID=America/Los_Angeles:20191031T200000
SUMMARY:Trick or Treat
LOCATION:Unincorporated Pointe Coupee Parish
DESCRIPTION:
URL:https://pcparish.org/event/trick-or-treat/edate/2019-10-31
END:VEVENT
END:VCALENDAR
