BEGIN:VCALENDAR
VERSION:2.0
PRODID:Imitheme.com 
BEGIN:VEVENT
UID:20260423T1130201329697700
DTSTAMP;TZID=UTC:2026-04-23 11:30:20
DTSTART;TZID=America/Los_Angeles:20260512T173000
DTEND;TZID=America/Los_Angeles:20260512T183000
SUMMARY:Parish Council Meeting
LOCATION:
DESCRIPTION:
URL:https://pcparish.org/event/parish-council-meeting-5/edate/2026-05-12
END:VEVENT
END:VCALENDAR
