BEGIN:VCALENDAR
VERSION:2.0
PRODID:Imitheme.com 
BEGIN:VEVENT
UID:20260423T1130201663280894
DTSTAMP;TZID=UTC:2026-04-23 11:30:20
DTSTART;TZID=America/Los_Angeles:20260526T173000
DTEND;TZID=America/Los_Angeles:20260526T183000
SUMMARY:Pointe Coupee Parish Council Executive Meeting
LOCATION:160 E Main St.\, New Roads\, LA 70760
DESCRIPTION:Pointe Coupee Parish Council Executive Meeting
URL:https://pcparish.org/event/pointe-coupee-parish-council-executive-meeting-15/edate/2026-05-26
END:VEVENT
END:VCALENDAR
