BEGIN:VCALENDAR
VERSION:2.0
PRODID:Imitheme.com 
BEGIN:VEVENT
UID:20260423T1253451741225755
DTSTAMP;TZID=UTC:2026-04-23 12:53:45
DTSTART;TZID=America/Los_Angeles:20260609T173000
DTEND;TZID=America/Los_Angeles:20260609T183000
SUMMARY:Parish Council Meeting
LOCATION:
DESCRIPTION:
URL:https://pcparish.org/event/parish-council-meeting-6/edate/2026-06-09
END:VEVENT
END:VCALENDAR
