BEGIN:VCALENDAR
VERSION:2.0
PRODID:Imitheme.com 
BEGIN:VEVENT
UID:20260422T201729215310505
DTSTAMP;TZID=UTC:2026-04-22 20:17:29
DTSTART;TZID=America/Los_Angeles:20200414T173000
DTEND;TZID=America/Los_Angeles:20200414T183000
SUMMARY:Parish Council Regular Meeting
LOCATION:160 E Main St.\, New Roads\, LA 70760
DESCRIPTION:
URL:https://pcparish.org/event/parish-council-regular-meeting-7/edate/2020-04-14
END:VEVENT
END:VCALENDAR
