BEGIN:VCALENDAR
VERSION:2.0
PRODID:Imitheme.com 
BEGIN:VEVENT
UID:20260422T1845522017906380
DTSTAMP;TZID=UTC:2026-04-22 18:45:52
DTSTART;TZID=America/Los_Angeles:20200512T173000
DTEND;TZID=America/Los_Angeles:20200512T183000
SUMMARY:Parish Council Regular Meeting
LOCATION:160 E Main St.\, New Roads\, LA 70760
DESCRIPTION:
URL:https://pcparish.org/event/parish-council-regular-meeting-8/edate/2020-05-12
END:VEVENT
END:VCALENDAR
