BEGIN:VCALENDAR
VERSION:2.0
PRODID:Imitheme.com 
BEGIN:VEVENT
UID:20260422T0122181295387042
DTSTAMP;TZID=UTC:2026-04-22 01:22:18
DTSTART;TZID=America/Los_Angeles:20200526T173000
DTEND;TZID=America/Los_Angeles:20200526T183000
SUMMARY:Parish Council Executive Committee Meeting
LOCATION:160 E Main St.\, New Roads\, LA 70760
DESCRIPTION:
URL:https://pcparish.org/event/parish-council-executive-committee-meeting-7/edate/2020-05-26
END:VEVENT
END:VCALENDAR
