BEGIN:VCALENDAR
VERSION:2.0
PRODID:Imitheme.com 
BEGIN:VEVENT
UID:20260422T171810532803218
DTSTAMP;TZID=UTC:2026-04-22 17:18:10
DTSTART;TZID=America/Los_Angeles:20200609T173000
DTEND;TZID=America/Los_Angeles:20200609T183000
SUMMARY:Parish Council Regular Meeting
LOCATION:160 E Main St.\, New Roads\, LA 70760
DESCRIPTION:
URL:https://pcparish.org/event/parish-council-regular-meeting-9/edate/2020-06-09
END:VEVENT
END:VCALENDAR
