BEGIN:VCALENDAR
VERSION:2.0
PRODID:Imitheme.com 
BEGIN:VEVENT
UID:20260421T2348331593221150
DTSTAMP;TZID=UTC:2026-04-21 23:48:33
DTSTART;TZID=America/Los_Angeles:20200623T173000
DTEND;TZID=America/Los_Angeles:20200623T183000
SUMMARY:Parish Council Executive Committee Meeting
LOCATION:160 E Main St.\, New Roads\, LA 70760
DESCRIPTION:
URL:https://pcparish.org/event/parish-council-executive-committee-meeting-8/edate/2020-06-23
END:VEVENT
END:VCALENDAR
