BEGIN:VCALENDAR
VERSION:2.0
PRODID:Imitheme.com 
BEGIN:VEVENT
UID:20260422T1544432058508191
DTSTAMP;TZID=UTC:2026-04-22 15:44:43
DTSTART;TZID=America/Los_Angeles:20200714T173000
DTEND;TZID=America/Los_Angeles:20200714T183000
SUMMARY:Parish Council Regular Meeting
LOCATION:160 E Main St.\, New Roads\, LA 70760
DESCRIPTION:
URL:https://pcparish.org/event/parish-council-regular-meeting-10/edate/2020-07-14
END:VEVENT
END:VCALENDAR
