BEGIN:VCALENDAR
VERSION:2.0
PRODID:Imitheme.com 
BEGIN:VEVENT
UID:20260421T222758495078869
DTSTAMP;TZID=UTC:2026-04-21 22:27:58
DTSTART;TZID=America/Los_Angeles:20200728T173000
DTEND;TZID=America/Los_Angeles:20200728T183000
SUMMARY:Parish Council Executive Committee Meeting
LOCATION:160 E Main St.\, New Roads\, LA 70760
DESCRIPTION:
URL:https://pcparish.org/event/parish-council-executive-committee-meeting-9/edate/2020-07-28
END:VEVENT
END:VCALENDAR
