BEGIN:VCALENDAR
VERSION:2.0
PRODID:Imitheme.com 
BEGIN:VEVENT
UID:20260422T140543235166476
DTSTAMP;TZID=UTC:2026-04-22 14:05:43
DTSTART;TZID=America/Los_Angeles:20200811T173000
DTEND;TZID=America/Los_Angeles:20200811T183000
SUMMARY:Parish Council Regular Meeting
LOCATION:160 E Main St.\, New Roads\, LA 70760
DESCRIPTION:
URL:https://pcparish.org/event/parish-council-regular-meeting-11/edate/2020-08-11
END:VEVENT
END:VCALENDAR
