BEGIN:VCALENDAR
VERSION:2.0
PRODID:Imitheme.com 
BEGIN:VEVENT
UID:20260421T1913321093506630
DTSTAMP;TZID=UTC:2026-04-21 19:13:32
DTSTART;TZID=America/Los_Angeles:20200922T173000
DTEND;TZID=America/Los_Angeles:20200922T183000
SUMMARY:Parish Council Executive Committee Meeting
LOCATION:160 E Main St.\, New Roads\, LA 70760
DESCRIPTION:
URL:https://pcparish.org/event/parish-council-executive-committee-meeting-11/edate/2020-09-22
END:VEVENT
END:VCALENDAR
