BEGIN:VCALENDAR
VERSION:2.0
PRODID:Imitheme.com 
BEGIN:VEVENT
UID:20260421T175446257674531
DTSTAMP;TZID=UTC:2026-04-21 17:54:46
DTSTART;TZID=America/Los_Angeles:20200113T170000
DTEND;TZID=America/Los_Angeles:20200113T180000
SUMMARY:Waterworks District No. 2 Meeting
LOCATION:160 E Main St.\, New Roads\, LA 70760
DESCRIPTION:
URL:https://pcparish.org/event/waterworks-district-no-2-meeting/edate/2020-01-13
END:VEVENT
END:VCALENDAR
