BEGIN:VCALENDAR
VERSION:2.0
PRODID:Imitheme.com 
BEGIN:VEVENT
UID:20260421T161904516499414
DTSTAMP;TZID=UTC:2026-04-21 16:19:04
DTSTART;TZID=America/Los_Angeles:20200113T180000
DTEND;TZID=America/Los_Angeles:20200113T190000
SUMMARY:Waterworks District No. 1 Meeting
LOCATION:160 E Main St.\, New Roads\, LA 70760
DESCRIPTION:
URL:https://pcparish.org/event/waterworks-district-no-1-meeting/edate/2020-01-13
END:VEVENT
END:VCALENDAR
