BEGIN:VCALENDAR
VERSION:2.0
PRODID:Imitheme.com 
BEGIN:VEVENT
UID:20260419T12023833262887
DTSTAMP;TZID=UTC:2026-04-19 12:02:38
DTSTART;TZID=America/Los_Angeles:20200120T183000
DTEND;TZID=America/Los_Angeles:20200120T193000
SUMMARY:Fire Protection District No. 1 Meeting
LOCATION:Innis Fire Station
DESCRIPTION:
URL:https://pcparish.org/event/fire-protection-district-no-1/edate/2020-01-20
END:VEVENT
END:VCALENDAR
