BEGIN:VCALENDAR
VERSION:2.0
PRODID:Imitheme.com 
BEGIN:VEVENT
UID:20260421T193246784789440
DTSTAMP;TZID=UTC:2026-04-21 19:32:46
DTSTART;TZID=America/Los_Angeles:20200206T120000
DTEND;TZID=America/Los_Angeles:20200206T130000
SUMMARY:False River Airpark Commission
LOCATION:False River Airpark
DESCRIPTION:
URL:https://pcparish.org/event/false-river-airpark-commission/edate/2020-02-06
END:VEVENT
END:VCALENDAR
