BEGIN:VCALENDAR
VERSION:2.0
PRODID:Imitheme.com 
BEGIN:VEVENT
UID:20260422T2134251311092545
DTSTAMP;TZID=UTC:2026-04-22 21:34:25
DTSTART;TZID=America/Los_Angeles:20200211T173000
DTEND;TZID=America/Los_Angeles:20200211T183000
SUMMARY:Parish Council Regular Meeting
LOCATION:160 E Main St.\, New Roads\, LA 70760
DESCRIPTION:
URL:https://pcparish.org/event/parish-council-regular-meeting-5/edate/2020-02-11
END:VEVENT
END:VCALENDAR
