BEGIN:VCALENDAR
VERSION:2.0
PRODID:Imitheme.com 
BEGIN:VEVENT
UID:20260422T215451313666882
DTSTAMP;TZID=UTC:2026-04-22 21:54:51
DTSTART;TZID=America/Los_Angeles:20200310T173000
DTEND;TZID=America/Los_Angeles:20200310T183000
SUMMARY:Parish Council Regular Meeting
LOCATION:160 E Main St.\, New Roads\, LA 70760
DESCRIPTION:
URL:https://pcparish.org/event/parish-council-regular-meeting-6/edate/2020-03-10
END:VEVENT
END:VCALENDAR
