BEGIN:VCALENDAR
VERSION:2.0
PRODID:Imitheme.com 
BEGIN:VEVENT
UID:20260422T0928111274663403
DTSTAMP;TZID=UTC:2026-04-22 09:28:11
DTSTART;TZID=America/Los_Angeles:20201110T173000
DTEND;TZID=America/Los_Angeles:20201110T183000
SUMMARY:Parish Council Regular Meeting
LOCATION:160 E Main St.\, New Roads\, LA 70760
DESCRIPTION:
URL:https://pcparish.org/event/parish-council-regular-meeting-14/edate/2020-11-10
END:VEVENT
END:VCALENDAR
