BEGIN:VCALENDAR
VERSION:2.0
PRODID:Imitheme.com 
BEGIN:VEVENT
UID:20260423T183540945879098
DTSTAMP;TZID=UTC:2026-04-23 18:35:40
DTSTART;TZID=America/Los_Angeles:20230412T173000
DTEND;TZID=America/Los_Angeles:20230412T183000
SUMMARY:Pointe Coupee Parish Library Board of Control
LOCATION:New Roads Library
DESCRIPTION:
URL:https://pcparish.org/event/pointe-coupee-parish-library-board-of-control-2/edate/2023-04-12
END:VEVENT
END:VCALENDAR
