BEGIN:VCALENDAR
VERSION:2.0
PRODID:Imitheme.com 
BEGIN:VEVENT
UID:20260423T1713031949464528
DTSTAMP;TZID=UTC:2026-04-23 17:13:03
DTSTART;TZID=America/Los_Angeles:20230614T173000
DTEND;TZID=America/Los_Angeles:20230614T183000
SUMMARY:Pointe Coupee Parish Library Board of Control
LOCATION:New Roads Library
DESCRIPTION:
URL:https://pcparish.org/event/pointe-coupee-parish-library-board-of-control-3/edate/2023-06-14
END:VEVENT
END:VCALENDAR
