BEGIN:VCALENDAR
VERSION:2.0
PRODID:Imitheme.com 
BEGIN:VEVENT
UID:20260423T1827481283973409
DTSTAMP;TZID=UTC:2026-04-23 18:27:48
DTSTART;TZID=America/Los_Angeles:20230124T173000
DTEND;TZID=America/Los_Angeles:20230124T180000
SUMMARY:Pointe Coupee Parish Council Special Meeting
LOCATION:160 E Main St.\, New Roads\, LA 70760
DESCRIPTION:
URL:https://pcparish.org/event/pointe-coupee-parish-council-special-meeting/edate/2023-01-24
END:VEVENT
END:VCALENDAR
