BEGIN:VCALENDAR
VERSION:2.0
PRODID:Imitheme.com 
BEGIN:VEVENT
UID:20260423T1702041316949945
DTSTAMP;TZID=UTC:2026-04-23 17:02:04
DTSTART;TZID=America/Los_Angeles:20231011T173000
DTEND;TZID=America/Los_Angeles:20231011T183000
SUMMARY:Pointe Coupee Parish Library Board of Control
LOCATION:New Roads Library
DESCRIPTION:
URL:https://pcparish.org/event/pointe-coupee-parish-library-board-of-control-5/edate/2023-10-11
END:VEVENT
END:VCALENDAR
